BEGIN:VCALENDAR
VERSION:2.0
PRODID:-//Haydneum - ECPv6.15.19//NONSGML v1.0//EN
CALSCALE:GREGORIAN
METHOD:PUBLISH
X-WR-CALNAME:Haydneum
X-ORIGINAL-URL:https://haydneum.com
X-WR-CALDESC:Események Haydneum
REFRESH-INTERVAL;VALUE=DURATION:PT1H
X-Robots-Tag:noindex
X-PUBLISHED-TTL:PT1H
BEGIN:VTIMEZONE
TZID:Europe/Budapest
BEGIN:DAYLIGHT
TZOFFSETFROM:+0100
TZOFFSETTO:+0200
TZNAME:CEST
DTSTART:20250330T010000
END:DAYLIGHT
BEGIN:STANDARD
TZOFFSETFROM:+0200
TZOFFSETTO:+0100
TZNAME:CET
DTSTART:20251026T010000
END:STANDARD
BEGIN:DAYLIGHT
TZOFFSETFROM:+0100
TZOFFSETTO:+0200
TZNAME:CEST
DTSTART:20260329T010000
END:DAYLIGHT
BEGIN:STANDARD
TZOFFSETFROM:+0200
TZOFFSETTO:+0100
TZNAME:CET
DTSTART:20261025T010000
END:STANDARD
BEGIN:DAYLIGHT
TZOFFSETFROM:+0100
TZOFFSETTO:+0200
TZNAME:CEST
DTSTART:20270328T010000
END:DAYLIGHT
BEGIN:STANDARD
TZOFFSETFROM:+0200
TZOFFSETTO:+0100
TZNAME:CET
DTSTART:20271031T010000
END:STANDARD
END:VTIMEZONE
BEGIN:VEVENT
DTSTART;TZID=Europe/Budapest:20260508T190000
DTEND;TZID=Europe/Budapest:20260508T190000
DTSTAMP:20260425T230250
CREATED:20260314T202201Z
LAST-MODIFIED:20260422T104941Z
UID:10000914-1778266800-1778266800@haydneum.com
SUMMARY:PISZTRÁNG-ÖTÖS
DESCRIPTION:Somlai Petra és az Ensemble Variabile-estje \nFranz SCHUBERT: B-dúr szonáta\, D 960\n—\nA-dúr zongoraötös “A pisztráng”\, D 667 \nA Hágai Királyi Zeneakadémia professzoraként is elismert\, Junior Prima díjas Somlai Petra a Haydneum koncertjeinek rendszeres közreműködője. Gyakran lép fel az Ensemble Variabilével\, a historikus előadásmódra épülő kamarazene-játék egyik képviselőjével. Repertoárjuk a barokktól a kora romantikáig terjed\, nevük a műsorra tűzött művek változatos hangszer-összeállításaira\, valamint a zenei hangzás sokszínűségére utal.\nSomlai Petra először Schubert legutolsó\, B-dúr szonátáját adja elő. A komponista a halála előtti hónapokban\, 1828 nyarán-őszén írta e műfajban utolsó három művét\, publikálásukra egy évtizeddel később került sor\, és igazán csak a 20. század folyamán kerültek méltó helyükre\, a zongorairodalom legfontosabb művei közé. A három szonáta egymással és más kései Schubert-művekkel is mutat számos rokonságot\, szerkesztésbeli hasonlóságot\, a B-dúr hangnemű darab nyugodt\, olykor komor szépségével emelkedik ki közülük. A Pisztráng-ötösként közismert A-dúr zongoraötös jóval korábbi kompozíció\, 1819-ben keletkezett\, ám csak egy évvel Schubert halála után\, 1829-ben adták ki. Az előadói apparátusban a vonósnégyesben megszokott második hegedű helyett nagybőgő szerepel\, talán Hummel bőgőt alkalmazó kamaraműveinek hatására. Az öttételes mű melléknevét a negyedik\, variációs tétel – az 1817-es Pisztráng című dal – témájáról kapta\, feltehetőleg a csellista és támogató\, Sylvester Paumgartner javaslatára. A zongoraszólamban mind az öt tétel során visszatér a dalokra jellemző kíséret\, és a tételek közti egyéb szerkezeti hasonlóságok (például a második és az ötödik szimmetrikus szerkesztése) is a mintegy háromnegyed órás mű egységét erősítik.
URL:https://haydneum.com/programok/haydneum-fortepiano-berlet-6-somlai-petra-es-az-ensemble-variabile-estje/
LOCATION:Zeneakadémia – Solti Terem\, Liszt Ferenc tér 8.\, Budapest\, 1061\, Magyarország
CATEGORIES:Haydneum Fortepiano Bérlet
ATTACH;FMTTYPE=image/jpeg:https://haydneum.com/wp-content/uploads/2026/03/BT2A6121_Ensemble-Variabile_c_Timar-Sara-e1776853754240.jpg
END:VEVENT
END:VCALENDAR