BEGIN:VCALENDAR
VERSION:2.0
PRODID:-//Haydneum - ECPv6.15.19//NONSGML v1.0//EN
CALSCALE:GREGORIAN
METHOD:PUBLISH
X-ORIGINAL-URL:https://haydneum.com
X-WR-CALDESC:Események Haydneum
REFRESH-INTERVAL;VALUE=DURATION:PT1H
X-Robots-Tag:noindex
X-PUBLISHED-TTL:PT1H
BEGIN:VTIMEZONE
TZID:Europe/Budapest
BEGIN:DAYLIGHT
TZOFFSETFROM:+0100
TZOFFSETTO:+0200
TZNAME:CEST
DTSTART:20240331T010000
END:DAYLIGHT
BEGIN:STANDARD
TZOFFSETFROM:+0200
TZOFFSETTO:+0100
TZNAME:CET
DTSTART:20241027T010000
END:STANDARD
BEGIN:DAYLIGHT
TZOFFSETFROM:+0100
TZOFFSETTO:+0200
TZNAME:CEST
DTSTART:20250330T010000
END:DAYLIGHT
BEGIN:STANDARD
TZOFFSETFROM:+0200
TZOFFSETTO:+0100
TZNAME:CET
DTSTART:20251026T010000
END:STANDARD
BEGIN:DAYLIGHT
TZOFFSETFROM:+0100
TZOFFSETTO:+0200
TZNAME:CEST
DTSTART:20260329T010000
END:DAYLIGHT
BEGIN:STANDARD
TZOFFSETFROM:+0200
TZOFFSETTO:+0100
TZNAME:CET
DTSTART:20261025T010000
END:STANDARD
BEGIN:DAYLIGHT
TZOFFSETFROM:+0100
TZOFFSETTO:+0200
TZNAME:CEST
DTSTART:20270328T010000
END:DAYLIGHT
BEGIN:STANDARD
TZOFFSETFROM:+0200
TZOFFSETTO:+0100
TZNAME:CET
DTSTART:20271031T010000
END:STANDARD
END:VTIMEZONE
BEGIN:VEVENT
DTSTART;TZID=Europe/Budapest:20260227T190000
DTEND;TZID=Europe/Budapest:20260227T190000
DTSTAMP:20260426T005826
CREATED:20260314T143453Z
LAST-MODIFIED:20260409T123931Z
UID:10000893-1772218800-1772218800@haydneum.com
SUMMARY:Szutrély Katalin és Berecz Mihály Schubert-Beethoven-estje
DESCRIPTION:Franz SCHUBERT (1797-1828):\nAn Sylvia\, D. 891\nDer Winterabend\, D. 938\nGeheimes\, D. 719\nNachtstück\, D. 672\nBlumenbrief\, D. 622\nRomanze zum Drama Rosamunde\, D. 797 (3b)\nDu bist die Ruh\, D. 776\nErlkönig\, D. 328\nSchlaflied\, D. 527\nAuf dem Wasser zu singen\, D. 774\nNacht und Träume\, D. 827\nSeligkeit\, D. 433 \nLudwig van BEETHOVEN (1770–1827):\nDiabelli variációk\, op. 120 \nBerecz Mihály a fiatal magyar zongoristanemzedék egyik legsikeresebb tagja\, Európa-szerte keresett előadó\, akinek repertoárján egyaránt megtalálhatjuk Haydnt és Bartókot\, hallhatjuk őt versenyművek szólistájaként\, szólódarabokban és kamarazenészként is. Énekpartnere\, Szutrély Katalin oratórium- és dalénekes hangját ezúttal Schubert-dalokban csodálhatjuk meg\, melyekben a fortepiano tartja fenn az énekes és a kíséret egyensúlyát. A második részben Beethoven hatalmas szólóművét\, az Anton Diabelli menüettjére írott 33 variációt hallhatjuk. \nBécs a 19. század elején – reakciós politikai „rossz híre” ellenére – kulturálisan igen modern város volt: a polgári idillre koncentráló biedermeier ízlés éppen úgy jellemző volt rá\, mint a romantika mélyen személyes\, kísérletező és vad kockázatvállalása. Különösen világosan tanúskodnak erről a korszak népszerű miniatűrjei\, az egyszerűséget és a zeneszerzői találékonyságot ötvöző dalok és variációk\, amelyek a két kortárs géniuszt\, Beethovent és Schubertet egyaránt foglalkoztatták. \nA francia forradalom előtti Bécshez képest már a fiatal Beethoven városa is alaposan megváltozott\, a művészi pályafutás mecenatúrája ugyanis legalább annyira átformálódott\, mint a modern komponisták személyes önmeghatározása. Schubert korán kettétört karrierjének kisnemesi-polgári közege és e közeg egyre hatékonyabb érdekérvényesítési képessége pedig még Beethoven életénél is látványosabban mutatott rá a társadalom és a kultúra új kapcsolódási pontjaira. A két zeneszerző dalai és variációi tökéletes lenyomatai ennek a dinamikusan változó kornak\, amelyben nagy keletje volt az emocionális és művészi örvényeket könnyen átlátható struktúrák mögé rejtő műfajoknak. Schubert dalai az érzelmeket világos formai keretbe foglalva jelenítették meg\, azt sugallva\, hogy a közönség biztonságos térből szemlélheti a művekben ábrázolt határhelyzeteket\, Beethoven pedig az egyszerű kisformákat feldolgozó variációs technikát használta fel szívesen arra\, hogy a közérthetőség álcája alatt a zene puszta elemekre bontásáig jusson el. \n 
URL:https://haydneum.com/programok/haydneum-fortepiano-berlet-4-szutrely-katalin-es-berecz-mihaly-schubert-beethoven-estje/
LOCATION:Zeneakadémia – Solti Terem\, Liszt Ferenc tér 8.\, Budapest\, 1061\, Magyarország
CATEGORIES:Haydneum Fortepiano Bérlet
ATTACH;FMTTYPE=image/jpeg:https://haydneum.com/wp-content/uploads/2026/03/OK-Marco-Borggreve-Mihaly-Berecz_043-1-e1756897645543-iMOnBf.jpg
END:VEVENT
BEGIN:VEVENT
DTSTART;TZID=Europe/Budapest:20260123T190000
DTEND;TZID=Europe/Budapest:20260123T190000
DTSTAMP:20260426T005826
CREATED:20260314T143440Z
LAST-MODIFIED:20260408T122634Z
UID:10000888-1769194800-1769194800@haydneum.com
SUMMARY:Marcin Świątkiewicz fortepianoestje
DESCRIPTION:A lélek visszhangjai\nC. P. E. BACH (1714–1788): c-moll fantázia\, Wq 63/18\nJ. S. BACH (1685–1750): 3 szólamú ricercar a Musikalisches Opferből\, BWV 1079\nW. A. MOZART (1756–1791): d-moll fantázia\, K. 397 (improvizált befejezéssel)\nJ. HAYDN (1732–1809): c-moll szonáta\, Hob. XVI:20\n—\nC. P. E. BACH: F-dúr fantázia\, Wq 59/5\nK. KURPIŃSKI (1785–1857): d-moll polonaise\nJ. ELSNER (1769–1854): 2. (D-dúr) szonáta\nC. P. E. BACH: fisz-moll fantázia\, Wq 67 \nMarcin Swiatkiewicz kiemelkedő lengyel előadóművész\, aki többféle historikus billentyűs hangszeren játszik. Szólista\, karmester\, a lengyelországi historikus együttesek rendszeres vendége\, neves lemezkiadók díjnyertes sztárja\, a katowicei és a krakkói zeneakadémia improvizációtanára. A barokk és klasszikus repertoár mellett gyakran játszik 20–21. századi csembalódarabokat és működik közre modern kísérleti programokban. Ezúttal a barokk és a klasszika befelé forduló\, elgondolkozó és elgondolkoztató darabjait szólaltatja meg\, „A lélek visszhangjai” címmel. \nKözreműködők: \nMarcin Swiatkiewicz – fortepiano
URL:https://haydneum.com/programok/marcin-swiatkiewicz-fortepianoestje/
LOCATION:Zeneakadémia – Solti Terem\, Liszt Ferenc tér 8.\, Budapest\, 1061\, Magyarország
CATEGORIES:Haydneum Fortepiano Bérlet
ATTACH;FMTTYPE=image/jpeg:https://haydneum.com/wp-content/uploads/2026/03/5-e1756898163371-E6iWPg.jpg
END:VEVENT
BEGIN:VEVENT
DTSTART;TZID=Europe/Budapest:20251206T190000
DTEND;TZID=Europe/Budapest:20251206T190000
DTSTAMP:20260426T005826
CREATED:20250814T184324Z
LAST-MODIFIED:20260409T110115Z
UID:10000622-1765047600-1765047600@haydneum.com
SUMMARY:Yury Martynov fortepianoestje
DESCRIPTION:Ludwig van BEETHOVEN (1770-1827):e-moll szonáta\, op. 90\nf-moll szonáta („Appassionata”)\, op. 57 \nRobert SCHUMANN (1810-1856): Szimfonikus etűdök\, op. 13 (a posztumusz variációkkal)\nTheme (Andante) – Etude I (Variation 1\, Un poco più vivo) – Etude II (Variation 2\, Andante) – Etude III (Vivace) – Etude IV (Variation 3\, Allegro marcato) – Etude V (Variation 4\, Scherzando) – Etude VI (Variation 5\, Agitato) – Allegretto – Etude VII (Variation 6\, Allegro molto) – Meno mosso – Moderato – Andante (Tempo del Tema) – Etude VIII (Variation 7\, Sempre marcatissimo) – Allegro – Etude IX (Presto possibile) – Etude X (Variation 8\, Allegro con energia) – Etude XI (Variation 9\, Andante espressivo) – Etude XII (Finale\, Allegro brillante based on Marschner’s theme) \nYury Martynovot páratlan technikai\, hangszer- és stílusismerete emeli a legkeresettebb pódiumművészek közé. Zongorán\, csembalón\, klavikordon\, orgonán és fortepianón egyaránt kiemelkedően játszik\, a moszkvai Csajkovszkij Konzervatóriumban modern zongorát és historikus billentyűs hangszereket tanít. Szólóestjén két középső korszakbeli Beethoven-szonátát – a népszerű Appassionatát és a kéttételes e-mollt –\, valamint Schumann Szimfonikus etűdjeit adja elő\, a posztumusz etűdökkel kiegészített\, hosszabb változatban.
URL:https://haydneum.com/programok/haydneum-fortepiano-berlet-2-yury-martynov/
LOCATION:Zeneakadémia – Solti Terem\, Liszt Ferenc tér 8.\, Budapest\, 1061\, Magyarország
CATEGORIES:Haydneum Fortepiano Bérlet
ATTACH;FMTTYPE=image/jpeg:https://haydneum.com/wp-content/uploads/2026/03/DSCF2866_Yuri_Martynov_c_Oleg-Degtyarov-e1756898607713-LMxrZt.jpg
END:VEVENT
BEGIN:VEVENT
DTSTART;TZID=Europe/Budapest:20251109T190000
DTEND;TZID=Europe/Budapest:20251109T190000
DTSTAMP:20260426T005826
CREATED:20250814T184320Z
LAST-MODIFIED:20260408T121941Z
UID:10000618-1762714800-1762714800@haydneum.com
SUMMARY:V. Haydneum Őszi Fesztivál – A Nocte Temporis
DESCRIPTION:Johann Sebastian BACH (1685-1750):\nIch armer Mensch\, ich Sündenknecht – kantáta\, BWV 55\nMelchior HOFFMANN (1679-1715):\nMeine Seele rühmt und preist – kantáta\n(korábban J.S. Bach’s életművébe sorolták BWV 189-es jegyzékszámmal)\n—\nBACH: h-moll zenekari szvit (No. 2)\, BWV 1067\nBACH: Ich habe genug – kantáta\, BWV 82 \nA tenor Reinoud Van Mechelen a Brüsszeli Királyi Konzervatóriumban végzett\, 2017-ben megkapta a belga sajtó Caecilia-díját\, és olyan karmesterekkel dolgozott együtt\, mint William Christie vagy Philippe Herreweghe. 2016-ban alapította meg saját együttesét\, az A Nocte Temporist (jelentése: az idők kezdete óta). Célja a régizene történetileg megalapozott bemutatása\, valamint minél szélesebb közönség érzelmi megérintése. Olyan zenészeket gyűjtött maga köré\, akik osztoznak ebben a szenvedélyében. \nBach 55-ös jegyzékszámú\, egyetlen fennmaradt tenor-szólókantátáját Lipcsében mutatták be 1726. november 17-én. A prédikáció a filippiekhez írott levél mellett a szívtelen szolgálóról szóló példabeszéd volt (Máté 18:23–35)\, Christoph Birkmann szövege az igazságos Istent és az igazságtalan embert állítja szembe\, középpontjában a bűnnel és a bűnbánattal. A négyszólamú kórus csak a zárókorálban kap szerepet. Az öttételes mű fuvolára\, oboa d’amoréra és vonósokra íródott\, s egyes feltételezések szerint az utolsó három tétel – melyek autográfja eltér – egy korábbi mű részét képezhette (talán az 1717-es\, elveszett weimari passióét). \nA harántfuvolára és vonósokra komponált h-moll szvit az 1724 és 1731 között keletkezett négy „ouverture” közül a második. Leghíresebb tétele a Badinenerie\, mely franciául évődést\, tréfát jelent (olaszul scherzo). A kutatási eredmények arra utalnak\, hogy létezett egy korábbi\, a-moll verzió is\, melyben szólóhegedű (esetleg oboa) szerepelt a fuvola helyett. \nMelchior Hoffmann tenor-szólókantátája azért visel Bach-jegyzékszámot (BWV 189)\, mert a 19. században Bach-műnek tartották. Hoffmann az 1700-as évek legelején Lipcsében Telemann mellett\, majd az ő utódaként vezette a Collegium Musicumot. A szöveg – melynek szerzője ismeretlen – Izajás jövendölését (11:1–5)\, valamint Lukácstól Mária Erzsébetnél tett látogatását (1:39–56) dolgozza fel három áriában\, két recitativóval. \nBach egyik legismertebb és legszívbemarkolóbb kantátája az Ich habe genug. Bemutatója Lipcsében volt 1727. február 2-án. A templomi basszus-szólókantáta oboát (az 1740-es változat oboa da cacciát) és vonósokat alkalmaz. 1731-ben szopránverzió is készült belőle (BWV 82a). Szövegét ugyancsak Birkmann írta a prédikáció (Malakiás 3:1–4. és Lukács 2:22–32) alapján\, Simeon énekét\, a földi léttől való megszabadulást\, a Jézussal való együttlét vágyát állítva a középpontba. Bach is kedvelte e művét\, amit bizonyít\, hogy a zene egy része megjelenik Anna Magdalena Bach daloskönyvében is. \nKözreműködők: \nA NOCTE TEMPORIS\nReinoud Van Mechelen – tenor\, művészeti vezető\nAnna Besson – fuvola\nRodolfo Richter\, Marrie Mooij – hegedű\nIngrid Bourgeois – brácsa\nRonan Kernoa – cselló\nShunsuke Kawai – oboa\nElise Christiaens – nagybőgő\nWouter Dekoninck – orgona\, csembaló
URL:https://haydneum.com/programok/v-haydneum-oszi-fesztival-a-nocte-temporis/
LOCATION:Zeneakadémia – Solti Terem\, Liszt Ferenc tér 8.\, Budapest\, 1061\, Magyarország
CATEGORIES:Haydneum Őszi Fesztivál
ATTACH;FMTTYPE=image/jpeg:https://haydneum.com/wp-content/uploads/2026/04/a-nocte-temporis@jeremytalon-e1757505352239-ZrL0GJ.jpg
END:VEVENT
BEGIN:VEVENT
DTSTART;TZID=Europe/Budapest:20250917T173400
DTEND;TZID=Europe/Budapest:20250917T173400
DTSTAMP:20260426T005826
CREATED:20260314T093901Z
LAST-MODIFIED:20260408T121339Z
UID:10000871-1758130440-1758130440@haydneum.com
SUMMARY:Aurelia Visovan fortepianoestje
DESCRIPTION:F. CHOPIN:\nE-dúr scherzo\, op. 54\ncisz-moll prelűd\, op. 45\nNégy mazurka\, op. 24\nAsz-dúr polonézfantázia\, op. 61 \nHuszonnégy prelűd\, op. 28 \nKözreműködők: \nAurelia Visovan – fortepiano
URL:https://haydneum.com/programok/aurelia-visovan-fortepianoestje-3/
LOCATION:Zeneakadémia – Solti Terem\, Liszt Ferenc tér 8.\, Budapest\, 1061\, Magyarország
CATEGORIES:Haydneum Fortepiano Bérlet
ATTACH;FMTTYPE=image/jpeg:https://haydneum.com/wp-content/uploads/2026/04/Aurelia-2021-7.jpeg_c_Andres-Anazco-e1756374997786-xIjr8E.jpg
END:VEVENT
END:VCALENDAR