BEGIN:VCALENDAR
VERSION:2.0
PRODID:-//Haydneum - ECPv6.15.19//NONSGML v1.0//EN
CALSCALE:GREGORIAN
METHOD:PUBLISH
X-WR-CALNAME:Haydneum
X-ORIGINAL-URL:https://haydneum.com
X-WR-CALDESC:Események Haydneum
REFRESH-INTERVAL;VALUE=DURATION:PT1H
X-Robots-Tag:noindex
X-PUBLISHED-TTL:PT1H
BEGIN:VTIMEZONE
TZID:Europe/Budapest
BEGIN:DAYLIGHT
TZOFFSETFROM:+0100
TZOFFSETTO:+0200
TZNAME:CEST
DTSTART:20240331T010000
END:DAYLIGHT
BEGIN:STANDARD
TZOFFSETFROM:+0200
TZOFFSETTO:+0100
TZNAME:CET
DTSTART:20241027T010000
END:STANDARD
BEGIN:DAYLIGHT
TZOFFSETFROM:+0100
TZOFFSETTO:+0200
TZNAME:CEST
DTSTART:20250330T010000
END:DAYLIGHT
BEGIN:STANDARD
TZOFFSETFROM:+0200
TZOFFSETTO:+0100
TZNAME:CET
DTSTART:20251026T010000
END:STANDARD
BEGIN:DAYLIGHT
TZOFFSETFROM:+0100
TZOFFSETTO:+0200
TZNAME:CEST
DTSTART:20260329T010000
END:DAYLIGHT
BEGIN:STANDARD
TZOFFSETFROM:+0200
TZOFFSETTO:+0100
TZNAME:CET
DTSTART:20261025T010000
END:STANDARD
END:VTIMEZONE
BEGIN:VEVENT
DTSTART;TZID=Europe/Budapest:20250905T223000
DTEND;TZID=Europe/Budapest:20250905T223000
DTSTAMP:20260426T053627
CREATED:20250827T124147Z
LAST-MODIFIED:20260408T121140Z
UID:10000637-1757111400-1757111400@haydneum.com
SUMMARY:Conti: Il trionfo della fama – George Enescu International Festival\, Bucharest
DESCRIPTION:F. B. CONTI:\nIl trionfo della fama. Serenata per musica in einem Akt (1723) \nRendező: George Enescu International Festival\nEgyüttműködő partner: Haydneum \nKözreműködők: \nBenedetta Mazzucato\, Genio – alt\nSophie Rennert\, Gloria – szoprán\nNicolò Balducci\, Fama – kontratenor\nMartin Vanberg\, Destino – tenor\nRiccardo Novaro\, Valore – bariton\nPurcell Kórus\nAccademia Bizantina\nVezényel: Ottavio Dantone
URL:https://haydneum.com/programok/conti-il-trionfo-della-fama-bucharest/
LOCATION:Romanian Athenaeum\, Bucharest\, Strada Benjamin Franklin 1-3\, București\, 010287\, Romania
CATEGORIES:Egyéb
ATTACH;FMTTYPE=image/jpeg:https://haydneum.com/wp-content/uploads/2026/04/Purcell-Korus_2021_@Markos-Tamas-e1756415965869-tPmVO1.jpg
END:VEVENT
END:VCALENDAR