BEGIN:VCALENDAR
VERSION:2.0
PRODID:-//Haydneum - ECPv6.15.19//NONSGML v1.0//EN
CALSCALE:GREGORIAN
METHOD:PUBLISH
X-ORIGINAL-URL:https://haydneum.com
X-WR-CALDESC:Események Haydneum
REFRESH-INTERVAL;VALUE=DURATION:PT1H
X-Robots-Tag:noindex
X-PUBLISHED-TTL:PT1H
BEGIN:VTIMEZONE
TZID:Europe/Budapest
BEGIN:DAYLIGHT
TZOFFSETFROM:+0100
TZOFFSETTO:+0200
TZNAME:CEST
DTSTART:20240331T010000
END:DAYLIGHT
BEGIN:STANDARD
TZOFFSETFROM:+0200
TZOFFSETTO:+0100
TZNAME:CET
DTSTART:20241027T010000
END:STANDARD
BEGIN:DAYLIGHT
TZOFFSETFROM:+0100
TZOFFSETTO:+0200
TZNAME:CEST
DTSTART:20250330T010000
END:DAYLIGHT
BEGIN:STANDARD
TZOFFSETFROM:+0200
TZOFFSETTO:+0100
TZNAME:CET
DTSTART:20251026T010000
END:STANDARD
BEGIN:DAYLIGHT
TZOFFSETFROM:+0100
TZOFFSETTO:+0200
TZNAME:CEST
DTSTART:20260329T010000
END:DAYLIGHT
BEGIN:STANDARD
TZOFFSETFROM:+0200
TZOFFSETTO:+0100
TZNAME:CET
DTSTART:20261025T010000
END:STANDARD
END:VTIMEZONE
BEGIN:VEVENT
DTSTART;TZID=Europe/Budapest:20250906T190000
DTEND;TZID=Europe/Budapest:20250906T190000
DTSTAMP:20260426T021542
CREATED:20250814T183723Z
LAST-MODIFIED:20260408T121142Z
UID:10000606-1757185200-1757185200@haydneum.com
SUMMARY:III. Haydneum Eszterháza Fesztivál / Berecz Mihály\, Orfeo Zenekar\, Attilio Cremonesi
DESCRIPTION:Antonio ROSETTI (1750–1792):\ng-moll szimfónia\, M.A42\nJosef Antonín ŠTĔPÁN (1726–1797):\nB-dúr zongoraverseny \nWolfgang Amadeus MOZART (1756–1791):\n40. g-moll szimfónia\, K. 550 \nBerecz Mihály – fortepiano\nOrfeo Zenekar\nvez.: Attilio Cremonesi \nRendező: Haydneum\nEgyüttműködő partner: Eszterháza Közhasznú Nonprofit Kft.
URL:https://haydneum.com/programok/iii-haydneum-eszterhaza-fesztival-berecz-mihaly-orfeo-zenekar-attilio-cremonesi/
LOCATION:Esterházy-kastély – Apolló-terem\, Haydn u. 2.\, Fertőd\, 9431\, Magyarország
CATEGORIES:Haydneum Eszterháza Fesztivál
ATTACH;FMTTYPE=image/jpeg:https://haydneum.com/wp-content/uploads/2026/03/OK-Marco-Borggreve-Mihaly-Berecz_043-1-e1756897645543-iMOnBf.jpg
END:VEVENT
BEGIN:VEVENT
DTSTART;TZID=Europe/Budapest:20250905T190000
DTEND;TZID=Europe/Budapest:20250905T190000
DTSTAMP:20260426T021542
CREATED:20250814T183722Z
LAST-MODIFIED:20260408T121139Z
UID:10000605-1757098800-1757098800@haydneum.com
SUMMARY:III. Haydneum Eszterháza Fesztivál / Il Suonar Parlante
DESCRIPTION:Joseph HAYDN (1732–1809):\nG-dúr divertimento\, Hob. X:12\nJohann Gottlieb GRAUN (1703–1771):\nd-moll concerto \nHAYDN: A-dúr divertimento\, Hob. X:3 \nSzemelvények az Il Suonar Parlante „Gypsy Baroque” című lemezéről:\nGeorg Philipp TELEMANN (1681–1767):\nOuverture burlesque „Scaramouche”\, TWV 55:B8 No. 2\, Vittorio Ghielmi átirata\n„Czigány Tánc” a 18. századi Sepsiszentgyörgyi kéziratból\, V. Ghielmi átirata\n„Magyar Tánc” a 18. századi Sepsiszentgyörgyi kéziratból\, V. Ghielmi és Stanislav Palúch átirata\n„Sol paii pe luludori” hagyományos Lovári cigány ének\, Graciela Gibelli\, S. Palúch átirata\n„Saltus Pollonicus és Hungaricus” Táncok az Uhroveci gyűjteményből (1730)\n„Cântec de leagan” hagyományos moldvai altatódal\, Gibelli és Marcel Comendant átirata\nJohann Philipp KIRNBERGER (1721–1783):\nMasura (mazurka)\, V. Ghielmi és S. Palúch átirata\n„Trana nanna”\, hagyományos lovári cigány dal\, S. Palúch átirata \nGraciela Gibelli – szoprán\nVittorio Ghielmi – karmester\, viola da gamba\nIl Suonar Parlante \nRendező: Haydneum\nEgyüttműködő partner: Eszterháza Közhasznú Nonprofit Kft.
URL:https://haydneum.com/programok/iii-haydneum-eszterhaza-fesztival-il-suonar-parlante/
LOCATION:Esterházy-kastély – Apolló-terem\, Haydn u. 2.\, Fertőd\, 9431\, Magyarország
CATEGORIES:Haydneum Eszterháza Fesztivál
ATTACH;FMTTYPE=image/jpeg:https://haydneum.com/wp-content/uploads/2026/04/Luis-Duarte-1650-pbYqEK.jpg
END:VEVENT
BEGIN:VEVENT
DTSTART;TZID=Europe/Budapest:20250904T190000
DTEND;TZID=Europe/Budapest:20250904T190000
DTSTAMP:20260426T021542
CREATED:20250814T183721Z
LAST-MODIFIED:20260408T120944Z
UID:10000604-1757012400-1757012400@haydneum.com
SUMMARY:III. Haydneum Eszterháza Fesztivál / Andreas Staier – fortepiano
DESCRIPTION:Wolfgang Amadeus MOZART (1756–1791):\nc-moll fantázia zongorára\, K. 475\nCarl Philipp Emanuel BACH (1714–1788):\ne-moll szonáta\, Wq 59/1 (H 281)\nC-dúr fantázia\, Wq 61/6 (H 291)\nJoseph HAYDN (1732–1809):\nf-moll variációk\, Hob. XVII:6 \nHAYDN: Esz-dúr szonáta\, Hob. XVI:49\nLudwig van BEETHOVEN (1770–1827):\nHat bagatell\, op. 126\nAndreas Staier – fortepiano \nRendező: Haydneum\nEgyüttműködő partner: Eszterháza Közhasznú Nonprofit Kft.
URL:https://haydneum.com/programok/iii-haydneum-eszterhaza-fesztival-andreas-staier-fortepiano/
LOCATION:Esterházy-kastély – Apolló-terem\, Haydn u. 2.\, Fertőd\, 9431\, Magyarország
CATEGORIES:Haydneum Eszterháza Fesztivál
ATTACH;FMTTYPE=image/jpeg:https://haydneum.com/wp-content/uploads/2026/04/c-Andrej-Grilc-04482-e1756893664111-egWdWP.jpg
END:VEVENT
BEGIN:VEVENT
DTSTART;TZID=Europe/Budapest:20250830T190000
DTEND;TZID=Europe/Budapest:20250830T190000
DTSTAMP:20260426T021542
CREATED:20250814T183524Z
LAST-MODIFIED:20260408T120942Z
UID:10000602-1756580400-1756580400@haydneum.com
SUMMARY:III. Haydneum Eszterháza Fesztivál / Haydn és Schubert zongoratriói
DESCRIPTION:Joseph HAYDN (1732–1809):\nG-dúr billentyűstrió („Cigányos Rondó”)\, Hob. XV:25\nFranz SCHUBERT (1797–1828):\nEsz-dúr notturno\, op. 148 D 897\nHAYDN: D-dúr billentyűstrió\, Hob. XV:24 \nSCHUBERT: B-dúr trió\, op. 99 D 898 \nRachel Podger – hegedű\nAlex Rolton – cselló\nKristian Bezuidenhout – fortepiano \nRendező: Haydneum\nEgyüttműködő partner: Eszterháza Közhasznú Nonprofit Kft.
URL:https://haydneum.com/programok/iii-haydneum-eszterhaza-fesztival-haydn-es-schubert-zongoratrioi/
LOCATION:Esterházy-kastély – Apolló-terem\, Haydn u. 2.\, Fertőd\, 9431\, Magyarország
CATEGORIES:Haydneum Eszterháza Fesztivál
ATTACH;FMTTYPE=image/jpeg:https://haydneum.com/wp-content/uploads/2026/04/Kristian-Bezuidenhout_photos-9-e1757537666953-5hE7DT.jpg
END:VEVENT
BEGIN:VEVENT
DTSTART;TZID=Europe/Budapest:20250829T190000
DTEND;TZID=Europe/Budapest:20250829T190000
DTSTAMP:20260426T021542
CREATED:20250814T183522Z
LAST-MODIFIED:20260409T142529Z
UID:10000600-1756494000-1756494000@haydneum.com
SUMMARY:III. Haydneum Eszterháza Fesztivál / Haydn: Armida
DESCRIPTION:Joseph HAYDN (1732–1809): \nArmida\, Hob. XXVIII:12\n(koncertszerű operaelőadás) \n  \nArmida\, a gyönyörű varázslónő keresztény lovagokat csábít el az első keresztes hadjárat idején\, hogy elváltoztassa és eleméssze őket. A pogány szaracénok lenyűgözően istentelen erejének éteri megtestesüléseként a legerényesebb és legkiválóbb lovagra\, Rinaldóra is kiveti a hálóját\, ekkor azonban katasztrófa sújt le rá: a boszorkány ugyanis olyan mélyen beleszeret az engedelmes alattvalójává bűvölt harcosba\, hogy nem képes megölni őt\, így végül saját maga válik pusztító szenvedélye áldozatává.\nA történet Torquato Tasso Megszabadított Jeruzsáleméből származik\, de az évszázadok során számtalan változatban formálódott operalibrettóvá – végtére is aligha képzelhető el tökéletesebb drámai alaphelyzet\, mint amilyet az erény és az esendőség összecsapása\, a kötelesség és az érzelmek\, az akarat és a sorsszerűség összeegyeztethetetlensége\, a küldetéstudat és a hatalomvágy\, a hódítás és az alávettetés parabolája bont ki a nagyszabású reneszánsz eposznak ebben a történetszálában. A közismert példázat ennek megfelelően számos komponistát foglalkoztatott Lullytől Händelen (aki a maga Rinaldójával aratta első nagy londoni sikerét)\, Vivaldin\, Gluckon és Rossinin át egészen Dvořákig\, sőt\, ami azt illeti\, megjelenik a történet Brahmsnál és Wagnernél is. Előbbi kantátát komponált belőle\, utóbbinál pedig a Parsifal Kundryja idézi fel Armida alakját.\nHaydn Armidáját 1784 februárjában mutatták be Eszterházán\, és a következő években a mű a hercegi opera legsűrűbben játszott darabjai közé emelkedett. \n  \nRendező: Haydneum\nEgyüttműködő partner: Eszterháza Közhasznú Nonprofit Kft.
URL:https://haydneum.com/programok/iii-haydneum-eszterhaza-fesztival-haydn-armida/
LOCATION:Esterházy-kastély – Apolló-terem\, Haydn u. 2.\, Fertőd\, 9431\, Magyarország
CATEGORIES:Haydneum Eszterháza Fesztivál
ATTACH;FMTTYPE=image/jpeg:https://haydneum.com/wp-content/uploads/2026/04/Berzhanskaya-c-Lena-Fainberg-20-e1756200406730-7Ur7CD.jpg
END:VEVENT
BEGIN:VEVENT
DTSTART;TZID=Europe/Budapest:20250824T190000
DTEND;TZID=Europe/Budapest:20250824T190000
DTSTAMP:20260426T021542
CREATED:20250814T183521Z
LAST-MODIFIED:20260408T120745Z
UID:10000599-1756062000-1756062000@haydneum.com
SUMMARY:Haydneum Koncertek Eszterházán – Fuvola- és klarinétverseny a Capella Savariaval
DESCRIPTION:Bertalan Andrea – fuvola\nEgri Márton – klarinét\nCapella Savaria \nJoseph HAYDN (1732–1809):\n30. C-dúr („Alleluja”) szimfónia\, Hob. I:30\nMichael HAYDN (1737–1806):\nD-dúr fuvolaverseny\, P.56 MH 105 \nWolfgang Amadeus MOZART (1756–1791):\nA-dúr klarinétverseny\, K. 622 \nA koncertre II. kategóriás jegyek is válthatóak a Haydn-terembe\, abban az esetben\, ha az Apolló-teremben elfogytak a jegyek.\nA Haydn-teremben korlátozottak a látási viszonyok!\nSOPRONCARD elfogadóhely\nA fertődi Esterházy-kastély és a nagycenki Széchenyi-kastély jegypénztárában OTP\, K&H vagy MBH SZÉP-kártyával is vásárolhat belépőt a koncertekre.\nA koncerteken kép- és hangfelvétel készül\, a műsor- és szereplőváltoztatás jogát fenntartjuk.\nKérjük rendezvényeinken az alkalomhoz illő megjelenést.
URL:https://haydneum.com/programok/haydneum-koncertek-eszterhazan-fuvola-es-klarinetverseny-a-capella-savariaval/
LOCATION:Esterházy-kastély – Apolló-terem\, Haydn u. 2.\, Fertőd\, 9431\, Magyarország
CATEGORIES:Haydneum Koncertek Eszterházán
ATTACH;FMTTYPE=image/jpeg:https://haydneum.com/wp-content/uploads/2026/04/Bertalan_Andrea_2-e1756733199549-pMf95Q.jpg
END:VEVENT
BEGIN:VEVENT
DTSTART;TZID=Europe/Budapest:20250823T190000
DTEND;TZID=Europe/Budapest:20250823T190000
DTSTAMP:20260426T021542
CREATED:20250814T183520Z
LAST-MODIFIED:20260408T120743Z
UID:10000598-1755975600-1755975600@haydneum.com
SUMMARY:Haydneum Koncertek Eszterházán – Sinfonia Concertante a Capella Savariaval
DESCRIPTION:Kalló Zsolt – hegedű\nMóré László – brácsa\nCapella Savaria \nJoseph HAYDN (1732–1809):\nL’isola disabitata – Overture\, Hob. XXVIII:9\n83. G-dúr („A tyúk”) szimfónia\, Hob. I:83 \nWolfgang Amadeus MOZART (1756–1791):\nEsz-dúr Sinfonia Concertante\, K. 364/320d \nA koncertre II. kategóriás jegyek is válthatóak a Haydn-terembe\, abban az esetben\, ha az Apolló-teremben elfogytak a jegyek.\nA Haydn-teremben korlátozottak a látási viszonyok!\nSOPRONCARD elfogadóhely\nA fertődi Esterházy-kastély és a nagycenki Széchenyi-kastély jegypénztárában OTP\, K&H vagy MBH SZÉP-kártyával is vásárolhat belépőt a koncertekre.\nA koncerteken kép- és hangfelvétel készül\, a műsor- és szereplőváltoztatás jogát fenntartjuk.\nKérjük rendezvényeinken az alkalomhoz illő megjelenést.
URL:https://haydneum.com/programok/haydneum-koncertek-eszterhazan-sinfonia-concertante-a-capella-savariaval/
LOCATION:Esterházy-kastély – Apolló-terem\, Haydn u. 2.\, Fertőd\, 9431\, Magyarország
CATEGORIES:Haydneum Koncertek Eszterházán
ATTACH;FMTTYPE=image/jpeg:https://haydneum.com/wp-content/uploads/2026/03/Capella-Savaria_04-@Kerges-Mate_2024-e1757512663294-GRVe20.jpg
END:VEVENT
BEGIN:VEVENT
DTSTART;TZID=Europe/Budapest:20250822T190000
DTEND;TZID=Europe/Budapest:20250822T190000
DTSTAMP:20260426T021542
CREATED:20250814T183324Z
LAST-MODIFIED:20260422T135843Z
UID:10000597-1755889200-1755889200@haydneum.com
SUMMARY:Haydneum Koncertek Eszterházán – Hegedű- és klarinétverseny a Capella Savariaval
DESCRIPTION:Kalló Zsolt – hegedű\nEgri Márton – klarinét\nCapella Savaria \nJoseph HAYDN (1732–1809):\n6. D-dúr („A reggel”) szimfónia\, Hob. I:6\nWolfgang Amadeus MOZART (1756–1791):\nD-dúr hegedűverseny\, K. 211 \nMOZART: A-dúr klarinétverseny\, K. 622 \nA koncertre II. kategóriás jegyek is válthatóak a Haydn-terembe\, abban az esetben\, ha az Apolló-teremben elfogytak a jegyek.\nA Haydn-teremben korlátozottak a látási viszonyok!\nSOPRONCARD elfogadóhely\nA fertődi Esterházy-kastély és a nagycenki Széchenyi-kastély jegypénztárában OTP\, K&H vagy MBH SZÉP-kártyával is vásárolhat belépőt a koncertekre.\nA koncerteken kép- és hangfelvétel készül\, a műsor- és szereplőváltoztatás jogát fenntartjuk.\nKérjük rendezvényeinken az alkalomhoz illő megjelenést.
URL:https://haydneum.com/programok/haydneum-koncertek-eszterhazan-hegedu-es-klarinetverseny-a-capella-savariaval/
LOCATION:Esterházy-kastély – Apolló-terem\, Haydn u. 2.\, Fertőd\, 9431\, Magyarország
CATEGORIES:Haydneum Koncertek Eszterházán
ATTACH;FMTTYPE=image/jpeg:https://haydneum.com/wp-content/uploads/2026/03/Egri-Marton_Bartyik-Daniel-e1757538853855-AOEUj2-e1776866299714.jpg
END:VEVENT
BEGIN:VEVENT
DTSTART;TZID=Europe/Budapest:20250817T190000
DTEND;TZID=Europe/Budapest:20250817T190000
DTSTAMP:20260426T021542
CREATED:20250814T183323Z
LAST-MODIFIED:20260422T135300Z
UID:10000596-1755457200-1755457200@haydneum.com
SUMMARY:Haydneum Koncertek Eszterházán – A Haydn-fivérek és Boccherini vonósnégyesei a Salomon String Quartettel
DESCRIPTION:Salomon String Quartet\nSimon Standage\, Catherine Martin – hegedű\nRőmer Ádám – brácsa\nNathan Giorgetti – cselló \nLuigi BOCCHERINI (1743–1805):\nD-dúr („La Cornemuse”) vonósnégyes\, op. 58 No. 5\nJoseph HAYDN (1732–1809):\nEsz-dúr („Tréfa”) vonósnégyes\, op. 33\, No. 2\, Hob. III:38 \nMichael HAYDN (1737–1806):\nC-dúr vonósnégyes\, P. 116\nJ. HAYDN:\nC-dúr („Császár”) vonósnégyes\, op. 76 No. 3\, Hob. III:77 \nA koncertre II. kategóriás jegyek is válthatóak a Haydn-terembe\, abban az esetben\, ha az Apolló-teremben elfogytak a jegyek.\nA Haydn-teremben korlátozottak a látási viszonyok!\nSOPRONCARD elfogadóhely\nA fertődi Esterházy-kastély és a nagycenki Széchenyi-kastély jegypénztárában OTP\, K&H vagy MBH SZÉP-kártyával is vásárolhat belépőt a koncertekre.\nA koncerteken kép- és hangfelvétel készül\, a műsor- és szereplőváltoztatás jogát fenntartjuk.\nKérjük rendezvényeinken az alkalomhoz illő megjelenést.
URL:https://haydneum.com/programok/haydneum-koncertek-eszterhazan-a-haydn-fiverek-es-boccherini-vonosnegyesei-a-salomon-string-quartettel/
LOCATION:Esterházy-kastély – Apolló-terem\, Haydn u. 2.\, Fertőd\, 9431\, Magyarország
CATEGORIES:Haydneum Koncertek Eszterházán
ATTACH;FMTTYPE=image/jpeg:https://haydneum.com/wp-content/uploads/2025/08/Salomon-String-Quartet_S-L-Chai_04-e1776865957136.jpg
END:VEVENT
BEGIN:VEVENT
DTSTART;TZID=Europe/Budapest:20250816T190000
DTEND;TZID=Europe/Budapest:20250816T190000
DTSTAMP:20260426T021542
CREATED:20250814T183322Z
LAST-MODIFIED:20260408T120739Z
UID:10000595-1755370800-1755370800@haydneum.com
SUMMARY:Haydneum Koncertek Eszterházán – A Salomon String Quartet Haydn-Pleyel-estje
DESCRIPTION:Salomon String Quartet\nSimon Standage\, Catherine Martin – hegedű\nRőmer Ádám – brácsa\nNathan Giorgetti – cselló \nIgnaz Joseph PLEYEL (1757–1831):\nC-dúr vonósnégyes op. 2 No. 2\, B.308\nJoseph HAYDN (1732–1809):\nG-dúr vonósnégyes op. 33 No. 5\, Hob. III:41 \nHAYDN:\nd-moll vonósnégyes\, op. 42 No. 35\, Hob. III:43\nD-dúr („Erdődy”) vonósnégyes op. 76 No. 5\, Hob. III:79 \nA koncertre II. kategóriás jegyek is válthatóak a Haydn-terembe\, abban az esetben\, ha az Apolló-teremben elfogytak a jegyek.\nA Haydn-teremben korlátozottak a látási viszonyok!\nSOPRONCARD elfogadóhely\nA fertődi Esterházy-kastély és a nagycenki Széchenyi-kastély jegypénztárában OTP\, K&H vagy MBH SZÉP-kártyával is vásárolhat belépőt a koncertekre.\nA koncerteken kép- és hangfelvétel készül\, a műsor- és szereplőváltoztatás jogát fenntartjuk.\nKérjük rendezvényeinken az alkalomhoz illő megjelenést.
URL:https://haydneum.com/programok/haydneum-koncertek-eszterhazan-a-salomon-string-quartet-haydn-pleyel-estje/
LOCATION:Esterházy-kastély – Apolló-terem\, Haydn u. 2.\, Fertőd\, 9431\, Magyarország
CATEGORIES:Haydneum Koncertek Eszterházán
ATTACH;FMTTYPE=image/jpeg:https://haydneum.com/wp-content/uploads/2025/08/Salomon-String-Quartet_S-L-Chai_04-e1776865957136.jpg
END:VEVENT
BEGIN:VEVENT
DTSTART;TZID=Europe/Budapest:20250815T190000
DTEND;TZID=Europe/Budapest:20250815T190000
DTSTAMP:20260426T021542
CREATED:20250814T183321Z
LAST-MODIFIED:20260408T120734Z
UID:10000594-1755284400-1755284400@haydneum.com
SUMMARY:Haydneum Koncertek Eszterházán – A Salomon String Quartet Haydn-Boccherini-estje
DESCRIPTION:Salomon String Quartet\nSimon Standage\, Catherine Martin – hegedű\nRőmer Ádám – brácsa\nNathan Giorgetti – cselló \nLuigi BOCCHERINI (1743–1805):\nD-dúr („La Cornemuse”) vonósnégyes\, op. 58 No. 5\nJoseph HAYDN (1732–1809):\nh-moll vonósnégyes\, op. 33 No. 1\, Hob. III:37 \nMichael HAYDN (1737–1806):\nC-dúr vonósnégyes\, P. 116\nJ. HAYDN:\nd-moll vonósnégyes\, op. 76. No. 2\, Hob. III:76 \nA koncertre II. kategóriás jegyek is válthatóak a Haydn-terembe\, abban az esetben\, ha az Apolló-teremben elfogytak a jegyek.\nA Haydn-teremben korlátozottak a látási viszonyok!\nSOPRONCARD elfogadóhely\nA fertődi Esterházy-kastély és a nagycenki Széchenyi-kastély jegypénztárában OTP\, K&H vagy MBH SZÉP-kártyával is vásárolhat belépőt a koncertekre.\nA koncerteken kép- és hangfelvétel készül\, a műsor- és szereplőváltoztatás jogát fenntartjuk.\nKérjük rendezvényeinken az alkalomhoz illő megjelenést.
URL:https://haydneum.com/programok/haydneum-koncertek-eszterhazan-a-salomon-string-quartet-haydn-boccherini-estje/
LOCATION:Esterházy-kastély – Apolló-terem\, Haydn u. 2.\, Fertőd\, 9431\, Magyarország
CATEGORIES:Haydneum Koncertek Eszterházán
ATTACH;FMTTYPE=image/jpeg:https://haydneum.com/wp-content/uploads/2025/08/Salomon-String-Quartet_S-L-Chai_04-e1776865957136.jpg
END:VEVENT
BEGIN:VEVENT
DTSTART;TZID=Europe/Budapest:20250810T190000
DTEND;TZID=Europe/Budapest:20250810T190000
DTSTAMP:20260426T021542
CREATED:20250814T183124Z
LAST-MODIFIED:20260408T120731Z
UID:10000592-1754852400-1754852400@haydneum.com
SUMMARY:Haydneum Koncertek Eszterházán – Misék az Esterházy-udvarból
DESCRIPTION:G. J. WERNER: Missa alacrioris animi (Ms. Mus. III. 30)\nPintér Ágnes – szoprán\nKomlóssyné Danku Eszter – alt\nGál József – tenor\nBorka Ákos – basszus \nJ. HAYDN: Missa Sancti Nicolai\, Hob. XXII:6\nSzili Gabriella – szoprán\nForgó Eszter – alt\nMegyesi Zoltán – tenor\nMelkovics Zoltán – basszus \nPurcell Kórus\, Orfeo Zenekar\nVezényel: Vashegyi György \nA koncertre II. kategóriás jegyek is válthatóak a Haydn-terembe\, abban az esetben\, ha az Apolló-teremben elfogytak a jegyek.\nA Haydn-teremben korlátozottak a látási viszonyok!\nSOPRONCARD elfogadóhely\nA fertődi Esterházy-kastély és a nagycenki Széchenyi-kastély jegypénztárában OTP\, K&H vagy MBH SZÉP-kártyával is vásárolhat belépőt a koncertekre.\nA koncerteken kép- és hangfelvétel készül\, a műsor- és szereplőváltoztatás jogát fenntartjuk.\nKérjük rendezvényeinken az alkalomhoz illő megjelenést.
URL:https://haydneum.com/programok/haydneum-koncertek-eszterhazan-misek-az-esterhazy-udvarbol/
LOCATION:Esterházy-kastély – Apolló-terem\, Haydn u. 2.\, Fertőd\, 9431\, Magyarország
CATEGORIES:Haydneum Koncertek Eszterházán
ATTACH;FMTTYPE=image/jpeg:https://haydneum.com/wp-content/uploads/2026/04/0719_BT2A1280.jpg_compressed-e1757538248288-C4rKXK.jpg
END:VEVENT
BEGIN:VEVENT
DTSTART;TZID=Europe/Budapest:20250809T190000
DTEND;TZID=Europe/Budapest:20250809T190000
DTSTAMP:20260426T021542
CREATED:20250814T183123Z
LAST-MODIFIED:20260408T120730Z
UID:10000591-1754766000-1754766000@haydneum.com
SUMMARY:Haydneum Koncertek Eszterházán – Balog József fortepianoestje
DESCRIPTION:Joseph HAYDN (1732–1809):\nh-moll szonáta\, Hob. XVI:32\nEsz-dúr („Londoni”) szonáta\, Hob. XVI:62 \nLISZT Ferenc (1811–1886):\nSancta Dorothea\, S.187\nEn Rève\, S.207\nNuages Gris\, S.199\nResignazione\, S.187a\nJohannes BRAHMS (1833–1897):\nfisz-moll szonáta\, op. 2 \nA koncertre II. kategóriás jegyek is válthatóak a Haydn-terembe\, abban az esetben\, ha az Apolló-teremben elfogytak a jegyek.\nA Haydn-teremben korlátozottak a látási viszonyok!\nSOPRONCARD elfogadóhely\nA fertődi Esterházy-kastély és a nagycenki Széchenyi-kastély jegypénztárában OTP\, K&H vagy MBH SZÉP-kártyával is vásárolhat belépőt a koncertekre.\nA koncerteken kép- és hangfelvétel készül\, a műsor- és szereplőváltoztatás jogát fenntartjuk.\nKérjük rendezvényeinken az alkalomhoz illő megjelenést.
URL:https://haydneum.com/programok/haydneum-koncertek-eszterhazan-balog-jozsef-fortepianoestje/
LOCATION:Esterházy-kastély – Apolló-terem\, Haydn u. 2.\, Fertőd\, 9431\, Magyarország
CATEGORIES:Haydneum Koncertek Eszterházán
ATTACH;FMTTYPE=image/jpeg:https://haydneum.com/wp-content/uploads/2026/04/DSC1078.jpg_Balog-Jozsef_c_Bartyik-Daniel-e1757537167507-1j3r2C.jpg
END:VEVENT
BEGIN:VEVENT
DTSTART;TZID=Europe/Budapest:20250808T190000
DTEND;TZID=Europe/Budapest:20250808T190000
DTSTAMP:20260426T021542
CREATED:20250814T183122Z
LAST-MODIFIED:20260408T120728Z
UID:10000590-1754679600-1754679600@haydneum.com
SUMMARY:Haydneum Koncertek Eszterházán – Borsányi Márton csembalóestje
DESCRIPTION:Joseph HAYDN (1732–1809): F-dúr („Esterházy”) szonáta\, Hob. XVI:23\nAntonio VIVALDI (1678–1741) – Johann Sebastian BACH (1685–1750):\nC-dúr concerto csembalóra\, BWV 976\nJohann PACHELBEL (1653–1706):\nO Lamm Gottes unschuldig – korálelőjáték\, P393 \nPACHELBEL:\nC-dúr Toccata\, P454\nAllein Gott in der Höh’ sei Ehr – korálelőjáték\, P10\nVIVALDI – BACH: h-moll concerto csembalóra\, BWV 979\nJ. HAYDN: h-moll szonáta\, Hob. XVI:32 \nA koncertre II. kategóriás jegyek is válthatóak a Haydn-terembe\, abban az esetben\, ha az Apolló-teremben elfogytak a jegyek.\nA Haydn-teremben korlátozottak a látási viszonyok!\nSOPRONCARD elfogadóhely\nA fertődi Esterházy-kastély és a nagycenki Széchenyi-kastély jegypénztárában OTP\, K&H vagy MBH SZÉP-kártyával is vásárolhat belépőt a koncertekre.\nA koncerteken kép- és hangfelvétel készül\, a műsor- és szereplőváltoztatás jogát fenntartjuk.\nKérjük rendezvényeinken az alkalomhoz illő megjelenést.
URL:https://haydneum.com/programok/haydneum-koncertek-eszterhazan-borsanyi-marton-csembaloestje/
LOCATION:Esterházy-kastély – Apolló-terem\, Haydn u. 2.\, Fertőd\, 9431\, Magyarország
CATEGORIES:Haydneum Koncertek Eszterházán
ATTACH;FMTTYPE=image/jpeg:https://haydneum.com/wp-content/uploads/2026/04/m6_Borsanyi-Marton_c_Horvath-Benedek-e1757540119522-zyNdSf.jpg
END:VEVENT
END:VCALENDAR