BEGIN:VCALENDAR
VERSION:2.0
PRODID:-//Haydneum - ECPv6.15.19//NONSGML v1.0//EN
CALSCALE:GREGORIAN
METHOD:PUBLISH
X-ORIGINAL-URL:https://haydneum.com
X-WR-CALDESC:Események Haydneum
REFRESH-INTERVAL;VALUE=DURATION:PT1H
X-Robots-Tag:noindex
X-PUBLISHED-TTL:PT1H
BEGIN:VTIMEZONE
TZID:Europe/Budapest
BEGIN:DAYLIGHT
TZOFFSETFROM:+0100
TZOFFSETTO:+0200
TZNAME:CEST
DTSTART:20250330T010000
END:DAYLIGHT
BEGIN:STANDARD
TZOFFSETFROM:+0200
TZOFFSETTO:+0100
TZNAME:CET
DTSTART:20251026T010000
END:STANDARD
BEGIN:DAYLIGHT
TZOFFSETFROM:+0100
TZOFFSETTO:+0200
TZNAME:CEST
DTSTART:20260329T010000
END:DAYLIGHT
BEGIN:STANDARD
TZOFFSETFROM:+0200
TZOFFSETTO:+0100
TZNAME:CET
DTSTART:20261025T010000
END:STANDARD
BEGIN:DAYLIGHT
TZOFFSETFROM:+0100
TZOFFSETTO:+0200
TZNAME:CEST
DTSTART:20270328T010000
END:DAYLIGHT
BEGIN:STANDARD
TZOFFSETFROM:+0200
TZOFFSETTO:+0100
TZNAME:CET
DTSTART:20271031T010000
END:STANDARD
END:VTIMEZONE
BEGIN:VEVENT
DTSTART;TZID=Europe/Budapest:20260529T200000
DTEND;TZID=Europe/Budapest:20260529T200000
DTSTAMP:20260425T152537
CREATED:20260314T205337Z
LAST-MODIFIED:20260423T115613Z
UID:10000926-1780084800-1780084800@haydneum.com
SUMMARY:Haydneum Egyházzenei Koncertek – Stabat Mater
DESCRIPTION:CARTELLIERI:\nLa Purificazione di Maria Vergine\n—\nRYBA: Stabat Mater \nRendező: Haydneum\nEgyüttműködő partner: Helsinki Barokk Zenekar \n 
URL:https://haydneum.com/programok/haydneum-egyhazzenei-koncertek-stabat-mater/
LOCATION:Egyetemi templom\, Papnövelde utca 5.\, Budapest\, 1053\, Magyarország
CATEGORIES:Haydneum Egyházzenei Fesztivál
ATTACH;FMTTYPE=image/jpeg:https://haydneum.com/wp-content/uploads/2026/03/HeboTalviVaaka-e1768047349991-tsIycD-e1775118801788.jpg
END:VEVENT
BEGIN:VEVENT
DTSTART;TZID=Europe/Budapest:20260531T160000
DTEND;TZID=Europe/Budapest:20260531T160000
DTSTAMP:20260425T152537
CREATED:20260314T205338Z
LAST-MODIFIED:20260423T115257Z
UID:10000927-1780243200-1780243200@haydneum.com
SUMMARY:Haydneum Egyházzenei Koncertek – A hét utolsó szó
DESCRIPTION:HAYDN:\nA Megváltó hét utolsó szava a keresztfán\, Hob. XX:1C\n(1787-es fortepiano-változat) \nA koncerten elhangoznak részletek Pázmány Péter: Christusnak hét szavairúl\, mellyeket a keresztfán mondott című művéből.
URL:https://haydneum.com/programok/haydneum-egyhazzenei-koncertek-a-het-utolso-szo/
LOCATION:Egyetemi templom\, Papnövelde utca 5.\, Budapest\, 1053\, Magyarország
CATEGORIES:Haydneum Egyházzenei Fesztivál
ATTACH;FMTTYPE=image/jpeg:https://haydneum.com/wp-content/uploads/2026/03/IMG_0350b-e1756301654674-WQVKhu-e1776852461878.jpg
END:VEVENT
BEGIN:VEVENT
DTSTART;TZID=Europe/Budapest:20260626T193000
DTEND;TZID=Europe/Budapest:20260626T193000
DTSTAMP:20260425T152537
CREATED:20260402T102139Z
LAST-MODIFIED:20260422T101607Z
UID:10000958-1782502200-1782502200@haydneum.com
SUMMARY:42. Régi Zenei Napok – Nyitókoncert
DESCRIPTION:J. M. SCHENAUER: c-moll requiem (újkori bemutató)\nJ. HAYDN: d-moll Nelson-mise \nRendező: Filharmónina Magyarország Kft.\nEgyüttműködő partner: Haydneum
URL:https://haydneum.com/programok/42-regi-zenei-napok-nyitokoncert/
LOCATION:Vác\, Fehérek temploma\, Március 15. tér 22.\, Vác\, 2600\, Magyarország
CATEGORIES:Egyéb
ATTACH;FMTTYPE=image/jpeg:https://haydneum.com/wp-content/uploads/2026/03/Purcell-Korus_Orfeo-Zenekar_c_Csibi_Szilvia_01-e1763634936194-wRSOsD-e1776852941368.jpg
END:VEVENT
BEGIN:VEVENT
DTSTART;TZID=Europe/Budapest:20260704T193000
DTEND;TZID=Europe/Budapest:20260704T193000
DTSTAMP:20260425T152537
CREATED:20260402T102809Z
LAST-MODIFIED:20260422T101927Z
UID:10000960-1783193400-1783193400@haydneum.com
SUMMARY:42. Régi Zenei Napok – Zárókoncert
DESCRIPTION:H. SCHÜTZ: Német Magnificat\, SWV 494\nC. P. E. BACH: h-moll szimfónia\, Wq 182-5\nJ. S. BACH: Es erhub sich ein Streit\, BWV 19 \nJ. S. BACH: d-moll hegedűverseny – III. tétel\, BWV1052R\nJ. S. BACH: D-dúr Magnificat\, BWV 243 \nRendező: Filharmónia Magyarország Kft.\nEgyüttműködő partner: Haydneum
URL:https://haydneum.com/programok/42-regi-zenei-napok-zarokoncert/
LOCATION:Vác\, Nagyboldogasszony-székesegyház\, Schuszter Konstantin tér 11.\, Vác\, 2600\, Magyarország
CATEGORIES:Egyéb
ATTACH;FMTTYPE=image/jpeg:https://haydneum.com/wp-content/uploads/2026/04/Shunske-Sato35-scaled-e1776853140397.jpg
END:VEVENT
END:VCALENDAR