BEGIN:VCALENDAR
VERSION:2.0
PRODID:-//Haydneum - ECPv6.15.19//NONSGML v1.0//EN
CALSCALE:GREGORIAN
METHOD:PUBLISH
X-ORIGINAL-URL:https://haydneum.com/en/
X-WR-CALDESC:Events for Haydneum
REFRESH-INTERVAL;VALUE=DURATION:PT1H
X-Robots-Tag:noindex
X-PUBLISHED-TTL:PT1H
BEGIN:VTIMEZONE
TZID:Europe/Budapest
BEGIN:DAYLIGHT
TZOFFSETFROM:+0100
TZOFFSETTO:+0200
TZNAME:CEST
DTSTART:20240331T010000
END:DAYLIGHT
BEGIN:STANDARD
TZOFFSETFROM:+0200
TZOFFSETTO:+0100
TZNAME:CET
DTSTART:20241027T010000
END:STANDARD
BEGIN:DAYLIGHT
TZOFFSETFROM:+0100
TZOFFSETTO:+0200
TZNAME:CEST
DTSTART:20250330T010000
END:DAYLIGHT
BEGIN:STANDARD
TZOFFSETFROM:+0200
TZOFFSETTO:+0100
TZNAME:CET
DTSTART:20251026T010000
END:STANDARD
BEGIN:DAYLIGHT
TZOFFSETFROM:+0100
TZOFFSETTO:+0200
TZNAME:CEST
DTSTART:20260329T010000
END:DAYLIGHT
BEGIN:STANDARD
TZOFFSETFROM:+0200
TZOFFSETTO:+0100
TZNAME:CET
DTSTART:20261025T010000
END:STANDARD
END:VTIMEZONE
BEGIN:VEVENT
DTSTART;TZID=Europe/Budapest:20250921T200000
DTEND;TZID=Europe/Budapest:20250921T200000
DTSTAMP:20260426T015831
CREATED:20250827T125746Z
LAST-MODIFIED:20250827T125746Z
UID:10000671-1758484800-1758484800@haydneum.com
SUMMARY:Tuma\, Bach\, Telemann - Varazdin Baroque Evenings
DESCRIPTION:František Ignac TŮMA (1704-1774): Miserere in F minor\, AMC\, T. 8.\nGeorg Philipp TELEMANN (1681-1767): Wer nur den lieben Gott lässt walten – cantata\, TWV 1:1593\nJohann Sebastian BACH: Ich hab in Gottes Herz und Sinn – cantata\, BWV 92\nGeorg Philipp TELEMANN: Jesus Christus unser Heiland – cantata\, TWV 1:976 \n  \nOrganiser: Varasdi Barokk Esték\nCo-operation partner: Haydneum
URL:https://haydneum.com/en/programok/tuma-bach-telemann-varazdin-baroque-evenings/
LOCATION:Varaždin Cathedral\, Pavlinska ul. 4.\, Varaždin\, 42000\, Croatia (Local Name: Hrvatska)
CATEGORIES:Others
ATTACH;FMTTYPE=image/jpeg:https://haydneum.com/wp-content/uploads/2025/08/PortraitKovacs3.Farbig-e1756306842829.jpg
END:VEVENT
END:VCALENDAR