BEGIN:VCALENDAR
VERSION:2.0
PRODID:-//Haydneum - ECPv6.15.19//NONSGML v1.0//EN
CALSCALE:GREGORIAN
METHOD:PUBLISH
X-WR-CALNAME:Haydneum
X-ORIGINAL-URL:https://haydneum.com/en/
X-WR-CALDESC:Events for Haydneum
REFRESH-INTERVAL;VALUE=DURATION:PT1H
X-Robots-Tag:noindex
X-PUBLISHED-TTL:PT1H
BEGIN:VTIMEZONE
TZID:Europe/Budapest
BEGIN:DAYLIGHT
TZOFFSETFROM:+0100
TZOFFSETTO:+0200
TZNAME:CEST
DTSTART:20250330T010000
END:DAYLIGHT
BEGIN:STANDARD
TZOFFSETFROM:+0200
TZOFFSETTO:+0100
TZNAME:CET
DTSTART:20251026T010000
END:STANDARD
BEGIN:DAYLIGHT
TZOFFSETFROM:+0100
TZOFFSETTO:+0200
TZNAME:CEST
DTSTART:20260329T010000
END:DAYLIGHT
BEGIN:STANDARD
TZOFFSETFROM:+0200
TZOFFSETTO:+0100
TZNAME:CET
DTSTART:20261025T010000
END:STANDARD
BEGIN:DAYLIGHT
TZOFFSETFROM:+0100
TZOFFSETTO:+0200
TZNAME:CEST
DTSTART:20270328T010000
END:DAYLIGHT
BEGIN:STANDARD
TZOFFSETFROM:+0200
TZOFFSETTO:+0100
TZNAME:CET
DTSTART:20271031T010000
END:STANDARD
END:VTIMEZONE
BEGIN:VEVENT
DTSTART;TZID=Europe/Budapest:20260331T190000
DTEND;TZID=Europe/Budapest:20260331T190000
DTSTAMP:20260425T215619
CREATED:20250903T202032Z
LAST-MODIFIED:20260327T182320Z
UID:10000695-1774983600-1774983600@haydneum.com
SUMMARY:J. S. Bach: Johannes Passion\, BWV 245 - Debrecen
DESCRIPTION:J. S. BACH:\nJohannes Passion\, BWV 245 \nOrganiser: Filharmonia Hungary\nCo-operation partner: Haydneum
URL:https://haydneum.com/en/programok/j-s-bach-johannes-passion-bwv-245-debrecen/
LOCATION:Reformed University Church in Debrecen\, Egyetem tér 2.\, Debrecen\, 4032\, Magyarország
CATEGORIES:Others
ATTACH;FMTTYPE=image/jpeg:https://haydneum.com/wp-content/uploads/2025/09/20240613__Megyesi-Zoltan_csibi_03_web-e1757505186684.jpg
END:VEVENT
END:VCALENDAR