BEGIN:VCALENDAR
VERSION:2.0
PRODID:-//Haydneum - ECPv6.15.19//NONSGML v1.0//EN
CALSCALE:GREGORIAN
METHOD:PUBLISH
X-WR-CALNAME:Haydneum
X-ORIGINAL-URL:https://haydneum.com/en/
X-WR-CALDESC:Events for Haydneum
REFRESH-INTERVAL;VALUE=DURATION:PT1H
X-Robots-Tag:noindex
X-PUBLISHED-TTL:PT1H
BEGIN:VTIMEZONE
TZID:Europe/Budapest
BEGIN:DAYLIGHT
TZOFFSETFROM:+0100
TZOFFSETTO:+0200
TZNAME:CEST
DTSTART:20250330T010000
END:DAYLIGHT
BEGIN:STANDARD
TZOFFSETFROM:+0200
TZOFFSETTO:+0100
TZNAME:CET
DTSTART:20251026T010000
END:STANDARD
BEGIN:DAYLIGHT
TZOFFSETFROM:+0100
TZOFFSETTO:+0200
TZNAME:CEST
DTSTART:20260329T010000
END:DAYLIGHT
BEGIN:STANDARD
TZOFFSETFROM:+0200
TZOFFSETTO:+0100
TZNAME:CET
DTSTART:20261025T010000
END:STANDARD
BEGIN:DAYLIGHT
TZOFFSETFROM:+0100
TZOFFSETTO:+0200
TZNAME:CEST
DTSTART:20270328T010000
END:DAYLIGHT
BEGIN:STANDARD
TZOFFSETFROM:+0200
TZOFFSETTO:+0100
TZNAME:CET
DTSTART:20271031T010000
END:STANDARD
END:VTIMEZONE
BEGIN:VEVENT
DTSTART;TZID=Europe/Budapest:20260513T190000
DTEND;TZID=Europe/Budapest:20260513T190000
DTSTAMP:20260425T180143
CREATED:20260314T202208Z
LAST-MODIFIED:20260409T133345Z
UID:10000955-1778698800-1778698800@haydneum.com
SUMMARY:With Haydn in London / Where did I leave my head? – Szeged
DESCRIPTION:Ádám Bősze’s lecture this time in Szeged\nÁdám Bősze’s lecture series is about Joseph Haydn’s travels in London\, from which listeners can learn not only about music but also cultural history\, including the circumstances under which the Esterházy family’s composer traveled\, worked\, and lived in a foreign country. \nThe lectures will be held in Hungarian. \nOrganiser: IH Rendezvényközpont\nCo-operating partner: Haydneum
URL:https://haydneum.com/en/programok/with-haydn-in-london-where-did-i-leave-my-head-szeged/
LOCATION:IH Event Center Szeged\, Felső Tisza-part 2.\, Szeged\, 6721\, Magyarország
CATEGORIES:Others
ATTACH;FMTTYPE=image/jpeg:https://haydneum.com/wp-content/uploads/2025/08/192A3837___Pilvax-Films-scaled-e1776851470620.jpg
END:VEVENT
END:VCALENDAR