BEGIN:VCALENDAR
VERSION:2.0
PRODID:-//Haydneum - ECPv6.15.19//NONSGML v1.0//EN
CALSCALE:GREGORIAN
METHOD:PUBLISH
X-WR-CALNAME:Haydneum
X-ORIGINAL-URL:https://haydneum.com/en/
X-WR-CALDESC:Events for Haydneum
REFRESH-INTERVAL;VALUE=DURATION:PT1H
X-Robots-Tag:noindex
X-PUBLISHED-TTL:PT1H
BEGIN:VTIMEZONE
TZID:Europe/Budapest
BEGIN:DAYLIGHT
TZOFFSETFROM:+0100
TZOFFSETTO:+0200
TZNAME:CEST
DTSTART:20240331T010000
END:DAYLIGHT
BEGIN:STANDARD
TZOFFSETFROM:+0200
TZOFFSETTO:+0100
TZNAME:CET
DTSTART:20241027T010000
END:STANDARD
BEGIN:DAYLIGHT
TZOFFSETFROM:+0100
TZOFFSETTO:+0200
TZNAME:CEST
DTSTART:20250330T010000
END:DAYLIGHT
BEGIN:STANDARD
TZOFFSETFROM:+0200
TZOFFSETTO:+0100
TZNAME:CET
DTSTART:20251026T010000
END:STANDARD
BEGIN:DAYLIGHT
TZOFFSETFROM:+0100
TZOFFSETTO:+0200
TZNAME:CEST
DTSTART:20260329T010000
END:DAYLIGHT
BEGIN:STANDARD
TZOFFSETFROM:+0200
TZOFFSETTO:+0100
TZNAME:CET
DTSTART:20261025T010000
END:STANDARD
BEGIN:DAYLIGHT
TZOFFSETFROM:+0100
TZOFFSETTO:+0200
TZNAME:CEST
DTSTART:20270328T010000
END:DAYLIGHT
BEGIN:STANDARD
TZOFFSETFROM:+0200
TZOFFSETTO:+0100
TZNAME:CET
DTSTART:20271031T010000
END:STANDARD
END:VTIMEZONE
BEGIN:VEVENT
DTSTART;TZID=Europe/Budapest:20260415T190000
DTEND;TZID=Europe/Budapest:20260415T190000
DTSTAMP:20260425T194132
CREATED:20260314T202159Z
LAST-MODIFIED:20260409T132655Z
UID:10000954-1776279600-1776279600@haydneum.com
SUMMARY:With Haydn in London / Memories of London – Szeged
DESCRIPTION:Ádám Bősze’s lecture this time in Szeged\nÁdám Bősze’s lecture series is about Joseph Haydn’s travels in London\, from which listeners can learn not only about music but also cultural history\, including the circumstances under which the Esterházy family’s composer traveled\, worked\, and lived in a foreign country. \nThe lectures will be held in Hungarian. \nOrganiser: IH Rendezvényközpont\nCo-operating partner: Haydneum
URL:https://haydneum.com/en/programok/with-haydn-in-london-memories-of-london-szeged/
LOCATION:IH Event Center Szeged\, Felső Tisza-part 2.\, Szeged\, 6721\, Magyarország
CATEGORIES:Others
ATTACH;FMTTYPE=image/jpeg:https://haydneum.com/wp-content/uploads/2026/03/0903_Bosze-Adam-c-Pilvax-Films_192A4166-Large-e1756300058669-Ho7FVU-e1776951696194.jpg
END:VEVENT
BEGIN:VEVENT
DTSTART;TZID=Europe/Budapest:20260311T190000
DTEND;TZID=Europe/Budapest:20260311T190000
DTSTAMP:20260425T194132
CREATED:20260314T143456Z
LAST-MODIFIED:20260314T143456Z
UID:10000969-1773255600-1773255600@haydneum.com
SUMMARY:With Haydn in London / Haydn with a brush – Szeged
DESCRIPTION:Ádám Bősze’s lecture this time in Szeged\nÁdám Bősze’s lecture series is about Joseph Haydn’s travels in London\, from which listeners can learn not only about music but also cultural history\, including the circumstances under which the Esterházy family’s composer traveled\, worked\, and lived in a foreign country. \nThe lectures will be held in Hungarian. \nOrganiser: IH Rendezvényközpont\nCo-operating partner: Haydneum
URL:https://haydneum.com/en/programok/with-haydn-in-london-haydn-with-a-brush-szeged/
LOCATION:IH Event Center Szeged\, Felső Tisza-part 2.\, Szeged\, 6721\, Magyarország
CATEGORIES:Others
ATTACH;FMTTYPE=image/jpeg:https://haydneum.com/wp-content/uploads/2026/03/0903_Bosze-Adam-c-Pilvax-Films_192A4166-Large-e1756300058669-Ho7FVU-e1776951696194.jpg
END:VEVENT
BEGIN:VEVENT
DTSTART;TZID=Europe/Budapest:20260212T190000
DTEND;TZID=Europe/Budapest:20260212T190000
DTSTAMP:20260425T194132
CREATED:20260314T143444Z
LAST-MODIFIED:20260314T143444Z
UID:10000964-1770922800-1770922800@haydneum.com
SUMMARY:With Haydn in London / “My dear\, may I ask how you are?” – Haydn’s private life – Szeged
DESCRIPTION:Ádám Bősze’s lecture this time in Szeged\nÁdám Bősze’s lecture series is about Joseph Haydn’s travels in London\, from which listeners can learn not only about music but also cultural history\, including the circumstances under which the Esterházy family’s composer traveled\, worked\, and lived in a foreign country. \nThe lectures will be held in Hungarian. \nOrganiser: IH Rendezvényközpont\nCo-operating partner: Haydneum
URL:https://haydneum.com/en/programok/with-haydn-in-london-my-dear-may-i-ask-how-you-are-haydns-private-life-szeged/
LOCATION:IH Event Center Szeged\, Felső Tisza-part 2.\, Szeged\, 6721\, Magyarország
CATEGORIES:Others
ATTACH;FMTTYPE=image/jpeg:https://haydneum.com/wp-content/uploads/2026/03/0903_Bosze-Adam-c-Pilvax-Films_192A4166-Large-e1756300058669-Ho7FVU-e1776951696194.jpg
END:VEVENT
BEGIN:VEVENT
DTSTART;TZID=Europe/Budapest:20260115T190000
DTEND;TZID=Europe/Budapest:20260115T190000
DTSTAMP:20260425T194132
CREATED:20260314T095102Z
LAST-MODIFIED:20260314T095102Z
UID:10000963-1768503600-1768503600@haydneum.com
SUMMARY:With Haydn in London / Braids and wigs – Szeged
DESCRIPTION:Ádám Bősze’s lecture this time in Szeged \nÁdám Bősze’s lecture series is about Joseph Haydn’s travels in London\, from which listeners can learn not only about music but also cultural history\, including the circumstances under which the Esterházy family’s composer traveled\, worked\, and lived in a foreign country. \nThe lectures will be held in Hungarian. \nOrganiser: IH Rendezvényközpont\nCo-operating partner: Haydneum
URL:https://haydneum.com/en/programok/with-haydn-in-london-braids-and-wigs-szeged/
LOCATION:IH Event Center Szeged\, Felső Tisza-part 2.\, Szeged\, 6721\, Magyarország
CATEGORIES:Others
ATTACH;FMTTYPE=image/jpeg:https://haydneum.com/wp-content/uploads/2026/03/0903_Bosze-Adam-c-Pilvax-Films_192A4166-Large-e1756300058669-Ho7FVU-e1776951696194.jpg
END:VEVENT
BEGIN:VEVENT
DTSTART;TZID=Europe/Budapest:20251217T190000
DTEND;TZID=Europe/Budapest:20251217T190000
DTSTAMP:20260425T194132
CREATED:20250814T184523Z
LAST-MODIFIED:20250814T184523Z
UID:10000682-1765998000-1765998000@haydneum.com
SUMMARY:With Haydn in London / Everyday Life – Szeged
DESCRIPTION:Ádám Bősze’s lecture this time in Szeged\nÁdám Bősze’s lecture series on Joseph Haydn’s journeys to London offers audiences not only a musical but also a cultural-historical perspective on the circumstances in which the Esterházy composer traveled\, worked\, and lived in a foreign country. \nOrganiser: IH Event Center\nEgyüttműködő partner: Haydneum
URL:https://haydneum.com/en/programok/with-haydn-in-london-everyday-life-szeged/
LOCATION:IH Event Center Szeged\, Felső Tisza-part 2.\, Szeged\, 6721\, Magyarország
CATEGORIES:Others
ATTACH;FMTTYPE=image/jpeg:https://haydneum.com/wp-content/uploads/2026/03/0903_Bosze-Adam-c-Pilvax-Films_192A4166-Large-e1756300058669-Ho7FVU-e1776951696194.jpg
END:VEVENT
BEGIN:VEVENT
DTSTART;TZID=Europe/Budapest:20251119T190000
DTEND;TZID=Europe/Budapest:20251119T190000
DTSTAMP:20260425T194132
CREATED:20250814T184322Z
LAST-MODIFIED:20250814T184322Z
UID:10000683-1763578800-1763578800@haydneum.com
SUMMARY:With Haydn in London / Life in countryside – Szeged
DESCRIPTION:Ádám Bősze’s lecture this time in Szeged\nÁdám Bősze’s lecture series on Joseph Haydn’s journeys to London offers audiences not only a musical but also a cultural-historical perspective on the circumstances in which the Esterházy composer traveled\, worked\, and lived in a foreign country. \nOrganiser: IH Event Center\nCo-operation partner: Haydneum
URL:https://haydneum.com/en/programok/with-haydn-in-london-life-in-countryside-szeged/
LOCATION:IH Event Center Szeged\, Felső Tisza-part 2.\, Szeged\, 6721\, Magyarország
CATEGORIES:Others
ATTACH;FMTTYPE=image/jpeg:https://haydneum.com/wp-content/uploads/2026/03/0903_Bosze-Adam-c-Pilvax-Films_192A4166-Large-e1756300058669-Ho7FVU-e1776951696194.jpg
END:VEVENT
BEGIN:VEVENT
DTSTART;TZID=Europe/Budapest:20250917T190000
DTEND;TZID=Europe/Budapest:20250917T190000
DTSTAMP:20260425T194132
CREATED:20250814T183724Z
LAST-MODIFIED:20250814T183724Z
UID:10000670-1758135600-1758135600@haydneum.com
SUMMARY:With Haydn in London / Travel Fever - Szeged
DESCRIPTION:Ádám Bősze’s lecture this time in Szeged\nÁdám Bősze’s lecture series focuses on Joseph Haydn’s journeys to London\, offering the audience insights not only into the music but also into the cultural and historical context—exploring the conditions under which the Esterházy composer traveled\, worked\, and lived in a foreign country.\n  \nOrganiser: IH Rendezvényközpont\nCo-operating partner: Haydneum
URL:https://haydneum.com/en/programok/with-haydn-in-london-travel-fever-szeged/
LOCATION:IH Event Center Szeged\, Felső Tisza-part 2.\, Szeged\, 6721\, Magyarország
CATEGORIES:Others
ATTACH;FMTTYPE=image/jpeg:https://haydneum.com/wp-content/uploads/2026/03/0903_Bosze-Adam-c-Pilvax-Films_192A4166-Large-e1756300058669-Ho7FVU-e1776951696194.jpg
END:VEVENT
END:VCALENDAR